BEGIN:VCALENDAR
VERSION:2.0
PRODID:-//ROX The Roxette Tribute Experience - ECPv6.15.17.1//NONSGML v1.0//EN
CALSCALE:GREGORIAN
METHOD:PUBLISH
X-ORIGINAL-URL:https://roxette-tributeband.nl
X-WR-CALDESC:Evenementen voor ROX The Roxette Tribute Experience
REFRESH-INTERVAL;VALUE=DURATION:PT1H
X-Robots-Tag:noindex
X-PUBLISHED-TTL:PT1H
BEGIN:VTIMEZONE
TZID:UTC
BEGIN:STANDARD
TZOFFSETFROM:+0000
TZOFFSETTO:+0000
TZNAME:UTC
DTSTART:20240101T000000
END:STANDARD
END:VTIMEZONE
BEGIN:VEVENT
DTSTART;TZID=UTC:20250504T200000
DTEND;TZID=UTC:20250504T230000
DTSTAMP:20260422T115755
CREATED:20250313T093839Z
LAST-MODIFIED:20250313T093839Z
UID:1526-1746388800-1746399600@roxette-tributeband.nl
SUMMARY:Baumblütenfest Werder (Havel)
DESCRIPTION:
URL:https://roxette-tributeband.nl/event/baumblutenfest-werder-havel/
LOCATION:Werder (Havel)\, Werder\, Germany
CATEGORIES:Live
ATTACH;FMTTYPE=image/jpeg:https://roxette-tributeband.nl/wp-content/uploads/2024/11/71a-1-van-1-1-scaled.jpg
END:VEVENT
END:VCALENDAR