BEGIN:VCALENDAR
VERSION:2.0
PRODID:-//ROX The Roxette Tribute Experience - ECPv6.15.17.1//NONSGML v1.0//EN
CALSCALE:GREGORIAN
METHOD:PUBLISH
X-ORIGINAL-URL:https://roxette-tributeband.nl
X-WR-CALDESC:Evenementen voor ROX The Roxette Tribute Experience
REFRESH-INTERVAL;VALUE=DURATION:PT1H
X-Robots-Tag:noindex
X-PUBLISHED-TTL:PT1H
BEGIN:VTIMEZONE
TZID:UTC
BEGIN:STANDARD
TZOFFSETFROM:+0000
TZOFFSETTO:+0000
TZNAME:UTC
DTSTART:20240101T000000
END:STANDARD
END:VTIMEZONE
BEGIN:VEVENT
DTSTART;TZID=UTC:20250613T200000
DTEND;TZID=UTC:20250613T230000
DTSTAMP:20260422T102719
CREATED:20250313T214706Z
LAST-MODIFIED:20250313T214706Z
UID:1543-1749844800-1749855600@roxette-tributeband.nl
SUMMARY:Rolandfest Stendal
DESCRIPTION:
URL:https://roxette-tributeband.nl/event/rolandfest-stendal/
LOCATION:Stendal\, Stendal\, 39576\, Germany
CATEGORIES:Live
END:VEVENT
END:VCALENDAR