BEGIN:VCALENDAR
VERSION:2.0
PRODID:-//ROX The Roxette Tribute Experience - ECPv6.15.17.1//NONSGML v1.0//EN
CALSCALE:GREGORIAN
METHOD:PUBLISH
X-ORIGINAL-URL:https://roxette-tributeband.nl
X-WR-CALDESC:Evenementen voor ROX The Roxette Tribute Experience
REFRESH-INTERVAL;VALUE=DURATION:PT1H
X-Robots-Tag:noindex
X-PUBLISHED-TTL:PT1H
BEGIN:VTIMEZONE
TZID:UTC
BEGIN:STANDARD
TZOFFSETFROM:+0000
TZOFFSETTO:+0000
TZNAME:UTC
DTSTART:20230101T000000
END:STANDARD
END:VTIMEZONE
BEGIN:VEVENT
DTSTART;TZID=UTC:20240803T193000
DTEND;TZID=UTC:20240803T230000
DTSTAMP:20260423T050116
CREATED:20240222T212329Z
LAST-MODIFIED:20240222T222609Z
UID:907-1722713400-1722726000@roxette-tributeband.nl
SUMMARY:Leonberg Rockt! - Germany - Roxette Greatest Hits
DESCRIPTION:
URL:https://roxette-tributeband.nl/event/leonberg-rockt-germany-roxette-greatest-hits/
LOCATION:Leonberg\, Leonberg im Strohländle (Engelbergwiese)\, Leonberg\, Duitsland
CATEGORIES:Live
END:VEVENT
BEGIN:VEVENT
DTSTART;TZID=UTC:20240731T180000
DTEND;TZID=UTC:20240731T220000
DTSTAMP:20260423T050116
CREATED:20240222T205251Z
LAST-MODIFIED:20240222T205251Z
UID:898-1722448800-1722463200@roxette-tributeband.nl
SUMMARY:Sindelfingen Rockt - Germany - Roxette Greatest Hits
DESCRIPTION:
URL:https://roxette-tributeband.nl/event/sindelfingen-rockt-germany-roxette-greatest-hits/
LOCATION:Sindelfingen\, Auf dem Marktplatz\, Sindelfingen\, 71063\, Duitsland
CATEGORIES:Live
END:VEVENT
BEGIN:VEVENT
DTSTART;TZID=UTC:20240730T180000
DTEND;TZID=UTC:20240730T203000
DTSTAMP:20260423T050116
CREATED:20240222T204631Z
LAST-MODIFIED:20240222T205414Z
UID:895-1722362400-1722371400@roxette-tributeband.nl
SUMMARY:Kornwestheim Rockt - Germany - Roxette Greatest Hits
DESCRIPTION:
URL:https://roxette-tributeband.nl/event/kornwestheim-rockt-germany-roxette-greatest-hits/
LOCATION:Kornwestheim\, Auf dem Marktplatz\, Kornwestheim\, 70806\, Duitsland
CATEGORIES:Live
END:VEVENT
END:VCALENDAR