BEGIN:VCALENDAR
VERSION:2.0
PRODID:-//ROX The Roxette Tribute Experience - ECPv6.15.17.1//NONSGML v1.0//EN
CALSCALE:GREGORIAN
METHOD:PUBLISH
X-WR-CALNAME:ROX The Roxette Tribute Experience
X-ORIGINAL-URL:https://roxette-tributeband.nl
X-WR-CALDESC:Evenementen voor ROX The Roxette Tribute Experience
REFRESH-INTERVAL;VALUE=DURATION:PT1H
X-Robots-Tag:noindex
X-PUBLISHED-TTL:PT1H
BEGIN:VTIMEZONE
TZID:UTC
BEGIN:STANDARD
TZOFFSETFROM:+0000
TZOFFSETTO:+0000
TZNAME:UTC
DTSTART:20220101T000000
END:STANDARD
END:VTIMEZONE
BEGIN:VEVENT
DTSTART;TZID=UTC:20240519T080000
DTEND;TZID=UTC:20240519T170000
DTSTAMP:20260423T000454
CREATED:20240222T203950Z
LAST-MODIFIED:20240222T205601Z
UID:892-1716105600-1716138000@roxette-tributeband.nl
SUMMARY:Open Air Remscheid - Germany - Roxette Greatest Hits (support for Bounce The Bon Jovi Tribute)
DESCRIPTION:
URL:https://roxette-tributeband.nl/event/open-air-remscheid-germany-roxette-greatest-hits-support-for-bounce-the-bon-jovi-tribute/
LOCATION:Schützenplatz Remscheid\, Schützenplatz\, Remscheid\, 42853\, Duitsland
CATEGORIES:Live
END:VEVENT
BEGIN:VEVENT
DTSTART;TZID=UTC:20230722T190000
DTEND;TZID=UTC:20230722T220000
DTSTAMP:20260423T000454
CREATED:20230206T103410Z
LAST-MODIFIED:20230702T092819Z
UID:662-1690052400-1690063200@roxette-tributeband.nl
SUMMARY:WIKA Open Air Klingenberg
DESCRIPTION:
URL:https://roxette-tributeband.nl/event/open-air-klingenberg-germany/
LOCATION:Open Air Klingenberg\, Klingenberg
CATEGORIES:Live
END:VEVENT
END:VCALENDAR