BEGIN:VCALENDAR
VERSION:2.0
PRODID:-//ROX The Roxette Tribute Experience - ECPv6.15.17.1//NONSGML v1.0//EN
CALSCALE:GREGORIAN
METHOD:PUBLISH
X-ORIGINAL-URL:https://roxette-tributeband.nl
X-WR-CALDESC:Evenementen voor ROX The Roxette Tribute Experience
REFRESH-INTERVAL;VALUE=DURATION:PT1H
X-Robots-Tag:noindex
X-PUBLISHED-TTL:PT1H
BEGIN:VTIMEZONE
TZID:UTC
BEGIN:STANDARD
TZOFFSETFROM:+0000
TZOFFSETTO:+0000
TZNAME:UTC
DTSTART:20240101T000000
END:STANDARD
END:VTIMEZONE
BEGIN:VEVENT
DTSTART;TZID=UTC:20251025T140000
DTEND;TZID=UTC:20251026T000000
DTSTAMP:20260419T122204
CREATED:20250621T113825Z
LAST-MODIFIED:20250621T114128Z
UID:1590-1761400800-1761436800@roxette-tributeband.nl
SUMMARY:Legends Tribute Festival Bad Vilbel
DESCRIPTION:
URL:https://roxette-tributeband.nl/event/legends-tribute-festival-bad-vilbel/
LOCATION:Bad Vilbel\, Günther-Biwer-Platz 1\, Bad Vilbel\, 61118\, Germany
CATEGORIES:Live
END:VEVENT
END:VCALENDAR