BEGIN:VCALENDAR
VERSION:2.0
PRODID:-//ROX The Roxette Tribute Experience - ECPv6.15.17.1//NONSGML v1.0//EN
CALSCALE:GREGORIAN
METHOD:PUBLISH
X-WR-CALNAME:ROX The Roxette Tribute Experience
X-ORIGINAL-URL:https://roxette-tributeband.nl
X-WR-CALDESC:Evenementen voor ROX The Roxette Tribute Experience
REFRESH-INTERVAL;VALUE=DURATION:PT1H
X-Robots-Tag:noindex
X-PUBLISHED-TTL:PT1H
BEGIN:VTIMEZONE
TZID:UTC
BEGIN:STANDARD
TZOFFSETFROM:+0000
TZOFFSETTO:+0000
TZNAME:UTC
DTSTART:20230101T000000
END:STANDARD
END:VTIMEZONE
BEGIN:VEVENT
DTSTART;TZID=UTC:20240628T200000
DTEND;TZID=UTC:20240628T220000
DTSTAMP:20260423T032252
CREATED:20240527T163234Z
LAST-MODIFIED:20240527T164420Z
UID:1009-1719604800-1719612000@roxette-tributeband.nl
SUMMARY:Musiksommer Homburg - Homburg - Roxette Greatest Hits
DESCRIPTION:
URL:https://roxette-tributeband.nl/event/homburger-sommer-homburg-roxette-greatest-hits/
LOCATION:Homburger Sommer\, Historischer Marktplatz\, Homburg\, Duitsland
CATEGORIES:Live
END:VEVENT
END:VCALENDAR