BEGIN:VCALENDAR
VERSION:2.0
PRODID:-//ROX The Roxette Tribute Experience - ECPv6.15.17.1//NONSGML v1.0//EN
CALSCALE:GREGORIAN
METHOD:PUBLISH
X-WR-CALNAME:ROX The Roxette Tribute Experience
X-ORIGINAL-URL:https://roxette-tributeband.nl
X-WR-CALDESC:Evenementen voor ROX The Roxette Tribute Experience
REFRESH-INTERVAL;VALUE=DURATION:PT1H
X-Robots-Tag:noindex
X-PUBLISHED-TTL:PT1H
BEGIN:VTIMEZONE
TZID:UTC
BEGIN:STANDARD
TZOFFSETFROM:+0000
TZOFFSETTO:+0000
TZNAME:UTC
DTSTART:20230101T000000
END:STANDARD
END:VTIMEZONE
BEGIN:VEVENT
DTSTART;TZID=UTC:20240921T210000
DTEND;TZID=UTC:20240921T210000
DTSTAMP:20260423T074456
CREATED:20240222T215533Z
LAST-MODIFIED:20240222T215533Z
UID:913-1726952400-1726952400@roxette-tributeband.nl
SUMMARY:Hansefest Gardelegen - Germany - Roxette Greatest Hits + Retro-X
DESCRIPTION:
URL:https://roxette-tributeband.nl/event/hansefest-gardelegen-germany-roxette-greatest-hits-retro-x/
LOCATION:Gardelegen\, Holzmarkt\, Gardelegen\, 39638\, Duitsland
CATEGORIES:Live
END:VEVENT
END:VCALENDAR