BEGIN:VCALENDAR
VERSION:2.0
PRODID:-//ROX The Roxette Tribute Experience - ECPv6.15.17.1//NONSGML v1.0//EN
CALSCALE:GREGORIAN
METHOD:PUBLISH
X-ORIGINAL-URL:https://roxette-tributeband.nl
X-WR-CALDESC:Evenementen voor ROX The Roxette Tribute Experience
REFRESH-INTERVAL;VALUE=DURATION:PT1H
X-Robots-Tag:noindex
X-PUBLISHED-TTL:PT1H
BEGIN:VTIMEZONE
TZID:UTC
BEGIN:STANDARD
TZOFFSETFROM:+0000
TZOFFSETTO:+0000
TZNAME:UTC
DTSTART:20230101T000000
END:STANDARD
END:VTIMEZONE
BEGIN:VEVENT
DTSTART;TZID=UTC:20251010T200000
DTEND;TZID=UTC:20251010T223000
DTSTAMP:20260419T132336
CREATED:20250621T113326Z
LAST-MODIFIED:20250621T113326Z
UID:1588-1760126400-1760135400@roxette-tributeband.nl
SUMMARY:Ebertbad Oberhausen
DESCRIPTION:
URL:https://roxette-tributeband.nl/event/ebertbad-oberhausen/
LOCATION:Ebertbad Oberhausen\, Ebertplatz 4\, Oberhausen\, 46045\, Duitsland
CATEGORIES:Live
END:VEVENT
BEGIN:VEVENT
DTSTART;TZID=UTC:20241102T200000
DTEND;TZID=UTC:20241102T223000
DTSTAMP:20260419T132336
CREATED:20231122T151420Z
LAST-MODIFIED:20240222T205343Z
UID:855-1730577600-1730586600@roxette-tributeband.nl
SUMMARY:Ebertbad Oberhausen - Germany - Roxette Greatest Hits
DESCRIPTION:
URL:https://roxette-tributeband.nl/event/ebertbad-oberhausen-germany-roxette-greatest-hits/
LOCATION:Ebertbad Oberhausen\, Ebertplatz 4\, Oberhausen\, 46045\, Duitsland
CATEGORIES:Live
END:VEVENT
END:VCALENDAR