BEGIN:VCALENDAR
VERSION:2.0
PRODID:-//ROX The Roxette Tribute Experience - ECPv6.15.17.1//NONSGML v1.0//EN
CALSCALE:GREGORIAN
METHOD:PUBLISH
X-WR-CALNAME:ROX The Roxette Tribute Experience
X-ORIGINAL-URL:https://roxette-tributeband.nl
X-WR-CALDESC:Evenementen voor ROX The Roxette Tribute Experience
REFRESH-INTERVAL;VALUE=DURATION:PT1H
X-Robots-Tag:noindex
X-PUBLISHED-TTL:PT1H
BEGIN:VTIMEZONE
TZID:UTC
BEGIN:STANDARD
TZOFFSETFROM:+0000
TZOFFSETTO:+0000
TZNAME:UTC
DTSTART:20240101T000000
END:STANDARD
END:VTIMEZONE
BEGIN:VEVENT
DTSTART;TZID=UTC:20250321T190000
DTEND;TZID=UTC:20250321T223000
DTSTAMP:20260422T153554
CREATED:20241127T212109Z
LAST-MODIFIED:20241127T212109Z
UID:1263-1742583600-1742596200@roxette-tributeband.nl
SUMMARY:Cobra Solingen
DESCRIPTION:
URL:https://roxette-tributeband.nl/event/cobra-solingen/
LOCATION:Cobra Solingen\, Merscheider Str. 77-79\, Solingen\, 42699\, Duitsland
CATEGORIES:Live
END:VEVENT
END:VCALENDAR