BEGIN:VCALENDAR
VERSION:2.0
PRODID:-//ROX The Roxette Tribute Experience - ECPv6.15.17.1//NONSGML v1.0//EN
CALSCALE:GREGORIAN
METHOD:PUBLISH
X-ORIGINAL-URL:https://roxette-tributeband.nl
X-WR-CALDESC:Evenementen voor ROX The Roxette Tribute Experience
REFRESH-INTERVAL;VALUE=DURATION:PT1H
X-Robots-Tag:noindex
X-PUBLISHED-TTL:PT1H
BEGIN:VTIMEZONE
TZID:UTC
BEGIN:STANDARD
TZOFFSETFROM:+0000
TZOFFSETTO:+0000
TZNAME:UTC
DTSTART:20240101T000000
END:STANDARD
END:VTIMEZONE
BEGIN:VEVENT
DTSTART;TZID=UTC:20250802T211500
DTEND;TZID=UTC:20250802T230000
DTSTAMP:20260420T014100
CREATED:20250621T074612Z
LAST-MODIFIED:20250621T074702Z
UID:1562-1754169300-1754175600@roxette-tributeband.nl
SUMMARY:Bretten Live
DESCRIPTION:
URL:https://roxette-tributeband.nl/event/bretten-live/
LOCATION:Bretten\, Marktplatz\, Bretten\, 75015\, Germany
CATEGORIES:Live
END:VEVENT
END:VCALENDAR