BEGIN:VCALENDAR
VERSION:2.0
PRODID:-//ROX The Roxette Tribute Experience - ECPv6.15.17.1//NONSGML v1.0//EN
CALSCALE:GREGORIAN
METHOD:PUBLISH
X-WR-CALNAME:ROX The Roxette Tribute Experience
X-ORIGINAL-URL:https://roxette-tributeband.nl
X-WR-CALDESC:Evenementen voor ROX The Roxette Tribute Experience
REFRESH-INTERVAL;VALUE=DURATION:PT1H
X-Robots-Tag:noindex
X-PUBLISHED-TTL:PT1H
BEGIN:VTIMEZONE
TZID:UTC
BEGIN:STANDARD
TZOFFSETFROM:+0000
TZOFFSETTO:+0000
TZNAME:UTC
DTSTART:20240101T000000
END:STANDARD
END:VTIMEZONE
BEGIN:VEVENT
DTSTART;TZID=UTC:20250822T200000
DTEND;TZID=UTC:20250822T220000
DTSTAMP:20260419T204711
CREATED:20250621T082040Z
LAST-MODIFIED:20250621T082040Z
UID:1570-1755892800-1755900000@roxette-tributeband.nl
SUMMARY:Kulturbühne Baabe
DESCRIPTION:
URL:https://roxette-tributeband.nl/event/kulturbuhne-baabe/
LOCATION:Baabe\, Baabe\, 18586
CATEGORIES:Live
END:VEVENT
END:VCALENDAR