BEGIN:VCALENDAR
VERSION:2.0
PRODID:-//ROX The Roxette Tribute Experience - ECPv6.15.17.1//NONSGML v1.0//EN
CALSCALE:GREGORIAN
METHOD:PUBLISH
X-WR-CALNAME:ROX The Roxette Tribute Experience
X-ORIGINAL-URL:https://roxette-tributeband.nl
X-WR-CALDESC:Evenementen voor ROX The Roxette Tribute Experience
REFRESH-INTERVAL;VALUE=DURATION:PT1H
X-Robots-Tag:noindex
X-PUBLISHED-TTL:PT1H
BEGIN:VTIMEZONE
TZID:UTC
BEGIN:STANDARD
TZOFFSETFROM:+0000
TZOFFSETTO:+0000
TZNAME:UTC
DTSTART:20230101T000000
END:STANDARD
END:VTIMEZONE
BEGIN:VEVENT
DTSTART;TZID=UTC:20240511T190000
DTEND;TZID=UTC:20240511T230000
DTSTAMP:20260423T012448
CREATED:20240222T200745Z
LAST-MODIFIED:20240222T214431Z
UID:889-1715454000-1715468400@roxette-tributeband.nl
SUMMARY:25. Stadt - und Spargelfest Osterburg (Altmark) - Germany - Roxette Greatest Hits + Retro-X
DESCRIPTION:
URL:https://roxette-tributeband.nl/event/25-stadt-und-spargelfest-osterburg-altmark-germany-roxette-greatest-hits-retro-x/
LOCATION:Osterburg (Altmark)\, Großer Markt\, Osterburg (Altmark)\, 39606\, Duitsland
CATEGORIES:Live
END:VEVENT
END:VCALENDAR