BEGIN:VCALENDAR
VERSION:2.0
PRODID:-//ROX The Roxette Tribute Experience - ECPv6.15.17.1//NONSGML v1.0//EN
CALSCALE:GREGORIAN
METHOD:PUBLISH
X-ORIGINAL-URL:https://roxette-tributeband.nl
X-WR-CALDESC:Evenementen voor ROX The Roxette Tribute Experience
REFRESH-INTERVAL;VALUE=DURATION:PT1H
X-Robots-Tag:noindex
X-PUBLISHED-TTL:PT1H
BEGIN:VTIMEZONE
TZID:UTC
BEGIN:STANDARD
TZOFFSETFROM:+0000
TZOFFSETTO:+0000
TZNAME:UTC
DTSTART:20230101T000000
END:STANDARD
END:VTIMEZONE
BEGIN:VEVENT
DTSTART;TZID=UTC:20250926T200000
DTEND;TZID=UTC:20250926T223000
DTSTAMP:20260419T162732
CREATED:20250621T112515Z
LAST-MODIFIED:20250621T112515Z
UID:1583-1758916800-1758925800@roxette-tributeband.nl
SUMMARY:Alte Weberei Nordhorn
DESCRIPTION:
URL:https://roxette-tributeband.nl/event/alte-weberei-nordhorn-2/
LOCATION:Alte Weberei Nordhorn\, Vechteaue 2\, Nordhorn\, Niedersachsen\, 48529\, Duitsland
CATEGORIES:Live
END:VEVENT
BEGIN:VEVENT
DTSTART;TZID=UTC:20250926T200000
DTEND;TZID=UTC:20250926T223000
DTSTAMP:20260419T162732
CREATED:20241203T195532Z
LAST-MODIFIED:20250312T224219Z
UID:1279-1758916800-1758925800@roxette-tributeband.nl
SUMMARY:Alte Weberei Nordhorn
DESCRIPTION:
URL:https://roxette-tributeband.nl/event/alte-weberei-nordhorn/
LOCATION:Alte Weberei Nordhorn\, Vechteaue 2\, Nordhorn\, Niedersachsen\, 48529\, Duitsland
CATEGORIES:Live
END:VEVENT
BEGIN:VEVENT
DTSTART;TZID=UTC:20240316T200000
DTEND;TZID=UTC:20240316T200000
DTSTAMP:20260419T162732
CREATED:20231122T144921Z
LAST-MODIFIED:20240222T205858Z
UID:833-1710619200-1710619200@roxette-tributeband.nl
SUMMARY:Alte Weberei Nordhorn - Germany - Roxette Greatest Hits
DESCRIPTION:
URL:https://roxette-tributeband.nl/event/solingen-germany-roxette-greatest-hits/
LOCATION:Alte Weberei Nordhorn\, Vechteaue 2\, Nordhorn\, Niedersachsen\, 48529\, Duitsland
CATEGORIES:Live
END:VEVENT
END:VCALENDAR