BEGIN:VCALENDAR
VERSION:2.0
PRODID:-//ROX The Roxette Tribute Experience - ECPv6.15.17.1//NONSGML v1.0//EN
CALSCALE:GREGORIAN
METHOD:PUBLISH
X-ORIGINAL-URL:https://roxette-tributeband.nl
X-WR-CALDESC:Evenementen voor ROX The Roxette Tribute Experience
REFRESH-INTERVAL;VALUE=DURATION:PT1H
X-Robots-Tag:noindex
X-PUBLISHED-TTL:PT1H
BEGIN:VTIMEZONE
TZID:UTC
BEGIN:STANDARD
TZOFFSETFROM:+0000
TZOFFSETTO:+0000
TZNAME:UTC
DTSTART:20240101T000000
END:STANDARD
END:VTIMEZONE
BEGIN:VEVENT
DTSTART;TZID=UTC:20250815T200000
DTEND;TZID=UTC:20250815T220000
DTSTAMP:20260420T000533
CREATED:20250621T080851Z
LAST-MODIFIED:20250621T080851Z
UID:1567-1755288000-1755295200@roxette-tributeband.nl
SUMMARY:Stadtfest Aken
DESCRIPTION:
URL:https://roxette-tributeband.nl/event/stadtfest-aken/
LOCATION:Aken\, Marktplatz\, Aken\, 06385\, Germany
CATEGORIES:Live
END:VEVENT
END:VCALENDAR